BEGIN:VCALENDAR
VERSION:2.0
PRODID:-//arran4//Golang ICS Library
METHOD:PUBLISH
NAME:Gobustan trail
X-WR-CALNAME:Gobustan trail
DESCRIPTION:Calendar for Gobustan trail
TIMEZONE-ID:Asia/Baku
BEGIN:VEVENT
UID:1c6ff161-ce06-4f94-a8e8-c2a47b97fc42
CREATED:20260419T062025Z
DTSTAMP:20260421T105726Z
LAST-MODIFIED:20260421T060638Z
SUMMARY:Gobustan trail
DESCRIPTION:Find more events at https://mymindisracing.com
DTSTART:20260419T000000Z
LOCATION:Qobustan\, QOB\, AZ
GEO:40.5326044;48.9941676
X-APPLE-STRUCTURED-LOCATION;VALUE=URI:geo:40.532604,48.994168
X-TITLE:Gobustan trail
URL:https://itra.run/Races/RaceDetails/Gobustan.trail.Dashgil/2026/115104
END:VEVENT
END:VCALENDAR
