BEGIN:VCALENDAR
VERSION:2.0
PRODID:-//arran4//Golang ICS Library
METHOD:PUBLISH
NAME:HUAJIANG CANYON CROSS-COUNTRY RACE
X-WR-CALNAME:HUAJIANG CANYON CROSS-COUNTRY RACE
DESCRIPTION:Calendar for HUAJIANG CANYON CROSS-COUNTRY RACE
TIMEZONE-ID:Asia/Shanghai
BEGIN:VEVENT
UID:1b4be30a-6494-49cc-8fd6-7a5625f0f0ca
CREATED:20260419T062027Z
DTSTAMP:20260421T105823Z
LAST-MODIFIED:20260421T060638Z
SUMMARY:HUAJIANG CANYON CROSS-COUNTRY RACE
DESCRIPTION:Find more events at https://mymindisracing.com
DTSTART:20260419T000000Z
LOCATION:Guanling\, GZ\, CN
GEO:25.9481991;105.6319533
X-APPLE-STRUCTURED-LOCATION;VALUE=URI:geo:25.948199,105.631953
X-TITLE:HUAJIANG CANYON CROSS-COUNTRY RACE
URL:https://itra.run/Races/RaceDetails/HUAJIANG.CANYON.CROSS.COUNTRY.RACE.5
 0KM/2026/115217
END:VEVENT
END:VCALENDAR
