BEGIN:VCALENDAR
VERSION:2.0
PRODID:-//arran4//Golang ICS Library
METHOD:PUBLISH
NAME:2026 Rosebud Valley Trail Run
X-WR-CALNAME:2026 Rosebud Valley Trail Run
DESCRIPTION:Calendar for 2026 Rosebud Valley Trail Run
TIMEZONE-ID:America/Edmonton
BEGIN:VEVENT
UID:18b4f77c-2c85-4b08-ad4c-b435c8189e97
CREATED:20260420T064044Z
DTSTAMP:20260421T105650Z
LAST-MODIFIED:20260421T061026Z
SUMMARY:2026 Rosebud Valley Trail Run
DESCRIPTION:Find more events at https://mymindisracing.com
DTSTART;TZID=America/Edmonton:20260627T090000
LOCATION:1 Avenue\, Wheatland County\, AB\, CA
GEO:51.2996458;-112.950867
X-APPLE-STRUCTURED-LOCATION;VALUE=URI:geo:51.299646,-112.950867
X-TITLE:2026 Rosebud Valley Trail Run
URL:https://www.rosebudtheatre.com/
END:VEVENT
END:VCALENDAR
