BEGIN:VCALENDAR
VERSION:2.0
PRODID:-//arran4//Golang ICS Library
METHOD:PUBLISH
NAME:Gritty C.O.G. 2026
X-WR-CALNAME:Gritty C.O.G. 2026
DESCRIPTION:Calendar for Gritty C.O.G. 2026
BEGIN:VEVENT
UID:17f89282-4236-48a3-bd01-a5a59a6a42dc
CREATED:20260423T060039Z
DTSTAMP:20260423T122616Z
LAST-MODIFIED:20260423T060039Z
SUMMARY:Gritty C.O.G. 2026
DESCRIPTION:Find more events at https://mymindisracing.com
DTSTART:20260614T110000Z
DTEND:20260614T173000Z
LOCATION:Whitehorse\, YT\, CA
GEO:60.64088;-135.03635
X-APPLE-STRUCTURED-LOCATION;VALUE=URI:geo:60.640880,-135.036350
X-TITLE:Gritty C.O.G. 2026
URL:https://velonorthyukon.ca
END:VEVENT
END:VCALENDAR
