BEGIN:VCALENDAR
VERSION:2.0
PRODID:-//arran4//Golang ICS Library
METHOD:PUBLISH
NAME:2026 GRAN FONDO CRK
X-WR-CALNAME:2026 GRAN FONDO CRK
DESCRIPTION:Calendar for 2026 GRAN FONDO CRK
TIMEZONE-ID:Asia/Manila
BEGIN:VEVENT
UID:17d8993b-268e-4a72-ad15-90e64c21e643
CREATED:20260420T064756Z
DTSTAMP:20260421T141858Z
LAST-MODIFIED:20260421T061425Z
SUMMARY:2026 GRAN FONDO CRK
DESCRIPTION:Find more events at https://mymindisracing.com
DTSTART;TZID=Asia/Manila:20260711T050000
LOCATION:Mimosa Drive\, Mabalacat\, PAM\, 2023\, PH
GEO:15.1845775;120.5267258
X-APPLE-STRUCTURED-LOCATION;VALUE=URI:geo:15.184577,120.526726
X-TITLE:2026 GRAN FONDO CRK
URL:https://goraceph.com/gran-fondo-crk/
END:VEVENT
END:VCALENDAR
