BEGIN:VCALENDAR
VERSION:2.0
PRODID:-//arran4//Golang ICS Library
METHOD:PUBLISH
NAME:Northside Elementary Arrow Dash 2026
X-WR-CALNAME:Northside Elementary Arrow Dash 2026
DESCRIPTION:Calendar for Northside Elementary Arrow Dash 2026
TIMEZONE-ID:America/Chicago
BEGIN:VEVENT
UID:155a434e-d33f-43b4-9ec0-393a5e3caff0
CREATED:20260420T063225Z
DTSTAMP:20260421T141626Z
LAST-MODIFIED:20260421T060840Z
SUMMARY:Northside Elementary Arrow Dash 2026
DESCRIPTION:Find more events at https://mymindisracing.com
DTSTART;TZID=America/Chicago:20260508T170000
LOCATION:Arrow Drive\, Clinton\, MS\, 39056\, US
GEO:32.3665054;-90.3044591
X-APPLE-STRUCTURED-LOCATION;VALUE=URI:geo:32.366505,-90.304459
X-TITLE:Northside Elementary Arrow Dash 2026
URL:https://raceroster.com/events/2026/114558/northside-elementary-arrow-da
 sh-2026
END:VEVENT
END:VCALENDAR
