BEGIN:VCALENDAR
VERSION:2.0
PRODID:-//arran4//Golang ICS Library
METHOD:PUBLISH
NAME:ONIGAJO PEAKS TRAIL
X-WR-CALNAME:ONIGAJO PEAKS TRAIL
DESCRIPTION:Calendar for ONIGAJO PEAKS TRAIL
TIMEZONE-ID:Asia/Tokyo
BEGIN:VEVENT
UID:1463c22c-9e46-4d2d-9b3c-b8ce09996bbf
CREATED:20260419T062031Z
DTSTAMP:20260421T105733Z
LAST-MODIFIED:20260421T060639Z
SUMMARY:ONIGAJO PEAKS TRAIL
DESCRIPTION:Find more events at https://mymindisracing.com
DTSTART:20260419T000000Z
LOCATION:Uwajima\, 38\, 798-8601\, JP
GEO:33.2232315;132.5606514
X-APPLE-STRUCTURED-LOCATION;VALUE=URI:geo:33.223231,132.560651
X-TITLE:ONIGAJO PEAKS TRAIL
URL:https://itra.run/Races/RaceDetails/ONIGAJO.PEAKS.TRAIL.LONG/2026/114572
END:VEVENT
END:VCALENDAR
