BEGIN:VCALENDAR
VERSION:2.0
PRODID:-//arran4//Golang ICS Library
METHOD:PUBLISH
NAME:Deutsche Berglauf Meisterschaften
X-WR-CALNAME:Deutsche Berglauf Meisterschaften
DESCRIPTION:Calendar for Deutsche Berglauf Meisterschaften
TIMEZONE-ID:Europe/Berlin
BEGIN:VEVENT
UID:14460889-9c91-4872-a2e8-a9eb0c4ca76f
CREATED:20260422T062406Z
DTSTAMP:20260423T093727Z
LAST-MODIFIED:20260423T060328Z
SUMMARY:Deutsche Berglauf Meisterschaften
DESCRIPTION:Find more events at https://mymindisracing.com
DTSTART:20260419T000000Z
LOCATION:Breitungen\, TH\, DE
GEO:50.7581715;10.3336776
X-APPLE-STRUCTURED-LOCATION;VALUE=URI:geo:50.758172,10.333678
X-TITLE:Deutsche Berglauf Meisterschaften
URL:https://itra.run/Races/RaceDetails/Deutsche.Berglauf.Meisterschaften.De
 utsche.Berglauf.Meisterschaften.2026/2026/118052
END:VEVENT
END:VCALENDAR
