BEGIN:VCALENDAR
VERSION:2.0
PRODID:-//arran4//Golang ICS Library
METHOD:PUBLISH
NAME:SOS - Alexandria
X-WR-CALNAME:SOS - Alexandria
DESCRIPTION:Calendar for SOS - Alexandria
TIMEZONE-ID:Australia/Sydney
BEGIN:VEVENT
UID:136d6170-00c9-492d-8d4a-bd4f0d78d843
CREATED:20260420T063838Z
DTSTAMP:20260421T135012Z
LAST-MODIFIED:20260421T063425Z
SUMMARY:SOS - Alexandria
DESCRIPTION:Find more events at https://mymindisracing.com
DTSTART;TZID=Australia/Sydney:20260501T090000
LOCATION:4-6 Princes Highway\, Alexandria\, NSW\, 2015\, AU
GEO:-33.909004;151.1814567
X-APPLE-STRUCTURED-LOCATION;VALUE=URI:geo:-33.909004,151.181457
X-TITLE:SOS - Alexandria
URL:https://www.boldhorizons.com.au/
END:VEVENT
END:VCALENDAR
