BEGIN:VCALENDAR
VERSION:2.0
PRODID:-//arran4//Golang ICS Library
METHOD:PUBLISH
NAME:Trail des allumes du Barry
X-WR-CALNAME:Trail des allumes du Barry
DESCRIPTION:Calendar for Trail des allumes du Barry
TIMEZONE-ID:Europe/Paris
BEGIN:VEVENT
UID:11637e3b-0cc0-4683-8816-345bd95b95c1
CREATED:20260422T062443Z
DTSTAMP:20260423T094011Z
LAST-MODIFIED:20260423T060333Z
SUMMARY:Trail des allumes du Barry
DESCRIPTION:Find more events at https://mymindisracing.com
DTSTART:20260412T000000Z
LOCATION:Saint-Restitut\, ARA\, 26130\, FR
GEO:44.3317996;4.7896833
X-APPLE-STRUCTURED-LOCATION;VALUE=URI:geo:44.331800,4.789683
X-TITLE:Trail des allumes du Barry
URL:https://itra.run/Races/RaceDetails/Trail.des.allumes.du.Barry.La.grosse
 .flamb%C3%A9e/2026/118014
END:VEVENT
END:VCALENDAR
