BEGIN:VCALENDAR
VERSION:2.0
PRODID:-//arran4//Golang ICS Library
METHOD:PUBLISH
NAME:8th Minqing Azalea Flower Sea Mountain Hiking & Trail Race
X-WR-CALNAME:8th Minqing Azalea Flower Sea Mountain Hiking & Trail Race
DESCRIPTION:Calendar for 8th Minqing Azalea Flower Sea Mountain Hiking &
  Trail Race
TIMEZONE-ID:Asia/Shanghai
BEGIN:VEVENT
UID:1041bbbb-05c7-4c46-b117-91b27f9a3e3f
CREATED:20260419T062021Z
DTSTAMP:20260421T105905Z
LAST-MODIFIED:20260421T060638Z
SUMMARY:8th Minqing Azalea Flower Sea Mountain Hiking & Trail Race
DESCRIPTION:Find more events at https://mymindisracing.com
DTSTART:20260419T000000Z
LOCATION:Minqing\, FJ\, CN
GEO:26.1901088;118.7498961
X-APPLE-STRUCTURED-LOCATION;VALUE=URI:geo:26.190109,118.749896
X-TITLE:8th Minqing Azalea Flower Sea Mountain Hiking & Trail Race
URL:https://itra.run/Races/RaceDetails/8th.Minqing.Azalea.Flower.Sea.Mounta
 in.Hiking...Trail.Race.42km/2026/117304
END:VEVENT
END:VCALENDAR
