BEGIN:VCALENDAR
VERSION:2.0
PRODID:-//arran4//Golang ICS Library
METHOD:PUBLISH
NAME:Run for a Resident 2026
X-WR-CALNAME:Run for a Resident 2026
DESCRIPTION:Calendar for Run for a Resident 2026
TIMEZONE-ID:America/Chicago
BEGIN:VEVENT
UID:0d59ccc5-966a-4bfd-b109-c496fd0764b5
CREATED:20260420T063951Z
DTSTAMP:20260421T105139Z
LAST-MODIFIED:20260421T061548Z
SUMMARY:Run for a Resident 2026
DESCRIPTION:Find more events at https://mymindisracing.com
DTSTART;TZID=America/Chicago:20260627T080000
LOCATION:1106 North Saunders Avenue\, Sutton\, NE\, 68979\, US
GEO:40.6165888;-97.8609411
X-APPLE-STRUCTURED-LOCATION;VALUE=URI:geo:40.616589,-97.860941
X-TITLE:Run for a Resident 2026
URL:https://www.suttoncommunityhome.com/
END:VEVENT
END:VCALENDAR
