BEGIN:VCALENDAR
VERSION:2.0
PRODID:-//arran4//Golang ICS Library
METHOD:PUBLISH
NAME:Run La Trobe
X-WR-CALNAME:Run La Trobe
DESCRIPTION:Calendar for Run La Trobe
TIMEZONE-ID:Australia/Melbourne
BEGIN:VEVENT
UID:0b38dcfe-7bab-4c80-91fb-4036a817c2af
CREATED:20260422T064924Z
DTSTAMP:20260423T093631Z
LAST-MODIFIED:20260423T060901Z
SUMMARY:Run La Trobe
DESCRIPTION:Find more events at https://mymindisracing.com
DTSTART;TZID=Australia/Melbourne:20260924T073000
LOCATION:10B The Agora\, Bundoora\, VIC\, 3083\, AU
GEO:-37.7203501;145.0473657
X-APPLE-STRUCTURED-LOCATION;VALUE=URI:geo:-37.720350,145.047366
X-TITLE:Run La Trobe
URL:https://raceroster.com/events/2026/115454/run-la-trobe
END:VEVENT
END:VCALENDAR
