BEGIN:VCALENDAR
VERSION:2.0
PRODID:-//arran4//Golang ICS Library
METHOD:PUBLISH
NAME:Harbour Hustle 2026
X-WR-CALNAME:Harbour Hustle 2026
DESCRIPTION:Calendar for Harbour Hustle 2026
TIMEZONE-ID:America/Halifax
BEGIN:VEVENT
UID:0adc2059-9dac-4736-8a26-a92a9bba1e3b
CREATED:20260420T064158Z
DTSTAMP:20260421T141945Z
LAST-MODIFIED:20260421T062716Z
SUMMARY:Harbour Hustle 2026
DESCRIPTION:Find more events at https://mymindisracing.com
DTSTART;TZID=America/Halifax:20260802T100000
LOCATION:Angus L. MacDonald Bridge\, Dartmouth\, NS\, B3A 1A4\, CA
GEO:44.6645381;-63.5838971
X-APPLE-STRUCTURED-LOCATION;VALUE=URI:geo:44.664538,-63.583897
X-TITLE:Harbour Hustle 2026
URL:https://raceroster.com/events/2024/84681/macpass-miles
END:VEVENT
END:VCALENDAR
