BEGIN:VCALENDAR
VERSION:2.0
PRODID:-//arran4//Golang ICS Library
METHOD:PUBLISH
NAME:2026 Tour di Via Italia
X-WR-CALNAME:2026 Tour di Via Italia
DESCRIPTION:Calendar for 2026 Tour di Via Italia
BEGIN:VEVENT
UID:09c4a220-28bd-46f9-be8f-d24d3a540bb8
CREATED:20260421T060357Z
DTSTAMP:20260422T103003Z
LAST-MODIFIED:20260422T060435Z
SUMMARY:2026 Tour di Via Italia
DESCRIPTION:Find more events at https://mymindisracing.com
DTSTART:20260531T073000Z
DTEND:20260531T190000Z
LOCATION:Windsor\, ON\, CA
GEO:42.31785;-83.03387
X-APPLE-STRUCTURED-LOCATION;VALUE=URI:geo:42.317850,-83.033870
X-TITLE:2026 Tour di Via Italia
URL:http://tourdiviaitalia.org/
END:VEVENT
END:VCALENDAR
