BEGIN:VCALENDAR
VERSION:2.0
PRODID:-//arran4//Golang ICS Library
METHOD:PUBLISH
NAME:July 13 Blue/Blue+ Moose Shuttle Ride
X-WR-CALNAME:July 13 Blue/Blue+ Moose Shuttle Ride
DESCRIPTION:Calendar for July 13 Blue/Blue+ Moose Shuttle Ride
BEGIN:VEVENT
UID:08e82577-684d-4f39-bafb-41b3390d6f6c
CREATED:20260415T060435Z
DTSTAMP:20260422T131905Z
LAST-MODIFIED:20260422T060412Z
SUMMARY:July 13 Blue/Blue+ Moose Shuttle Ride
DESCRIPTION:Find more events at https://mymindisracing.com
DTSTART:20260713T173000Z
DTEND:20260713T193000Z
LOCATION:Rocky View County\, AB\, CA
GEO:50.95214;-114.56279
X-APPLE-STRUCTURED-LOCATION;VALUE=URI:geo:50.952140,-114.562790
X-TITLE:July 13 Blue/Blue+ Moose Shuttle Ride
URL:http://spinsisters.ca
END:VEVENT
END:VCALENDAR
