BEGIN:VCALENDAR
VERSION:2.0
PRODID:-//arran4//Golang ICS Library
METHOD:PUBLISH
NAME:Canine Classic
X-WR-CALNAME:Canine Classic
DESCRIPTION:Calendar for Canine Classic
TIMEZONE-ID:America/Halifax
BEGIN:VEVENT
UID:07f7eb5b-0bef-4881-ae58-24f0cda746bc
CREATED:20260420T064700Z
DTSTAMP:20260421T105727Z
LAST-MODIFIED:20260421T062435Z
SUMMARY:Canine Classic
DESCRIPTION:Find more events at https://mymindisracing.com
DTSTART;TZID=America/Halifax:20260425T080000
LOCATION:256 Bissett Road\, Cole Harbour\, NS\, CA
GEO:44.6641096;-63.4682221
X-APPLE-STRUCTURED-LOCATION;VALUE=URI:geo:44.664110,-63.468222
X-TITLE:Canine Classic
URL:https://dogrunnin.square.site/our-races
END:VEVENT
END:VCALENDAR
