BEGIN:VCALENDAR
VERSION:2.0
PRODID:-//arran4//Golang ICS Library
METHOD:PUBLISH
NAME:Belle Fourche Rodeo Run 5K/10K
X-WR-CALNAME:Belle Fourche Rodeo Run 5K/10K
DESCRIPTION:Calendar for Belle Fourche Rodeo Run 5K/10K
TIMEZONE-ID:America/Denver
BEGIN:VEVENT
UID:05df3e28-23f8-41d1-8d8d-62389dbfee0d
CREATED:20260420T063354Z
DTSTAMP:20260421T105558Z
LAST-MODIFIED:20260421T063112Z
SUMMARY:Belle Fourche Rodeo Run 5K/10K
DESCRIPTION:Find more events at https://mymindisracing.com
DTSTART;TZID=America/Denver:20260704T070000
LOCATION:8th Avenue\, Belle Fourche\, SD\, 57717\, US
GEO:44.6670265;-103.8490749
X-APPLE-STRUCTURED-LOCATION;VALUE=URI:geo:44.667026,-103.849075
X-TITLE:Belle Fourche Rodeo Run 5K/10K
URL:https://raceroster.com/events/2026/118434/belle-fourche-rodeo-run-5k10k
END:VEVENT
END:VCALENDAR
