BEGIN:VCALENDAR
VERSION:2.0
PRODID:-//arran4//Golang ICS Library
METHOD:PUBLISH
NAME:Compassion Christian Community Churches 5K
X-WR-CALNAME:Compassion Christian Community Churches 5K
DESCRIPTION:Calendar for Compassion Christian Community Churches 5K
TIMEZONE-ID:America/Port_of_Spain
BEGIN:VEVENT
UID:0587bf0a-ad13-4e91-bf25-5acddbf46404
CREATED:20260420T064721Z
DTSTAMP:20260423T122737Z
LAST-MODIFIED:20260421T061735Z
SUMMARY:Compassion Christian Community Churches 5K
DESCRIPTION:Find more events at https://mymindisracing.com
DTSTART;TZID=America/Port_of_Spain:20260613T060000
LOCATION:Queen's Park West\, Port of Spain\, POS\, 190130\, TT
GEO:10.6698667;-61.5147398
X-APPLE-STRUCTURED-LOCATION;VALUE=URI:geo:10.669867,-61.514740
X-TITLE:Compassion Christian Community Churches 5K
URL:http://powerpairproduction.com
END:VEVENT
END:VCALENDAR
