BEGIN:VCALENDAR
VERSION:2.0
PRODID:-//arran4//Golang ICS Library
METHOD:PUBLISH
NAME:Westborough Glow Run
X-WR-CALNAME:Westborough Glow Run
DESCRIPTION:Calendar for Westborough Glow Run
TIMEZONE-ID:America/New_York
BEGIN:VEVENT
UID:0490639e-f09f-44de-a61f-71ace050ce61
CREATED:20260420T062920Z
DTSTAMP:20260421T110211Z
LAST-MODIFIED:20260421T063109Z
SUMMARY:Westborough Glow Run
DESCRIPTION:Find more events at https://mymindisracing.com
DTSTART;TZID=America/New_York:20260516T191500
LOCATION:Westboro Hospital Road\, Westborough\, MA\, 01581\, US
GEO:42.297863;-71.610062
X-APPLE-STRUCTURED-LOCATION;VALUE=URI:geo:42.297863,-71.610062
X-TITLE:Westborough Glow Run
URL:https://raceroster.com/events/2026/119151/westborough-glow-run
END:VEVENT
END:VCALENDAR
