BEGIN:VCALENDAR
VERSION:2.0
PRODID:-//arran4//Golang ICS Library
METHOD:PUBLISH
NAME:Super Hero 5k
X-WR-CALNAME:Super Hero 5k
DESCRIPTION:Calendar for Super Hero 5k
TIMEZONE-ID:America/New_York
BEGIN:VEVENT
UID:040560bb-b01d-4f0c-b7ab-91c884086dd8
CREATED:20260422T060012Z
DTSTAMP:20260423T094012Z
LAST-MODIFIED:20260423T060005Z
SUMMARY:Super Hero 5k
DESCRIPTION:Find more events at https://mymindisracing.com
DTSTART;TZID=America/New_York:20260425T090000
DTEND;TZID=America/New_York:20260425T120000
LOCATION:947 Park Street\, Attleboro\, MA\, 02703\, US
GEO:41.931073;-71.262819
X-APPLE-STRUCTURED-LOCATION;VALUE=URI:geo:41.931073,-71.262819
X-TITLE:La Salette Shrine
URL:http://www.dayspringag.org
END:VEVENT
END:VCALENDAR
