BEGIN:VCALENDAR
VERSION:2.0
PRODID:-//arran4//Golang ICS Library
METHOD:PUBLISH
NAME:TTSPCA Run Fur Rescues 5K 2026
X-WR-CALNAME:TTSPCA Run Fur Rescues 5K 2026
DESCRIPTION:Calendar for TTSPCA Run Fur Rescues 5K 2026
TIMEZONE-ID:America/Port_of_Spain
BEGIN:VEVENT
UID:038a6faf-4f6e-4fc7-9821-6158607a66e5
CREATED:20260420T062715Z
DTSTAMP:20260423T122856Z
LAST-MODIFIED:20260423T060605Z
SUMMARY:TTSPCA Run Fur Rescues 5K 2026
DESCRIPTION:Find more events at https://mymindisracing.com
DTSTART;TZID=America/Port_of_Spain:20260712T163000
LOCATION:Queen's Park West\, Port of Spain\, POS\, 190130\, TT
GEO:10.6698667;-61.5147398
X-APPLE-STRUCTURED-LOCATION;VALUE=URI:geo:10.669867,-61.514740
X-TITLE:TTSPCA Run Fur Rescues 5K 2026
URL:https://raceroster.com/events/2026/118539/ttspca-run-fur-rescues-5k-202
 6
END:VEVENT
END:VCALENDAR
