BEGIN:VCALENDAR
VERSION:2.0
PRODID:-//arran4//Golang ICS Library
METHOD:PUBLISH
NAME:2026 Long Pond Loop 5km Walk/Run
X-WR-CALNAME:2026 Long Pond Loop 5km Walk/Run
DESCRIPTION:Calendar for 2026 Long Pond Loop 5km Walk/Run
TIMEZONE-ID:America/St_Johns
BEGIN:VEVENT
UID:02caf4b7-e57c-4c85-8ea6-928f2d88ef92
CREATED:20260420T063139Z
DTSTAMP:20260421T105619Z
LAST-MODIFIED:20260421T063027Z
SUMMARY:2026 Long Pond Loop 5km Walk/Run
DESCRIPTION:Find more events at https://mymindisracing.com
DTSTART;TZID=America/St_Johns:20260606T084500
LOCATION:Unnamed Road\, Bay Bulls\, NL\, CA
GEO:47.3373264;-52.8162569
X-APPLE-STRUCTURED-LOCATION;VALUE=URI:geo:47.337326,-52.816257
X-TITLE:2026 Long Pond Loop 5km Walk/Run
URL:https://bbrlc.ca/long-pond-loop
END:VEVENT
END:VCALENDAR
