BEGIN:VCALENDAR
VERSION:2.0
PRODID:-//arran4//Golang ICS Library
METHOD:PUBLISH
NAME:Ultra-Trail Mogan by UTMB
X-WR-CALNAME:Ultra-Trail Mogan by UTMB
DESCRIPTION:Calendar for Ultra-Trail Mogan by UTMB
TIMEZONE-ID:Asia/Shanghai
BEGIN:VEVENT
UID:027b186b-b360-481f-bca2-61deef0b35f3
CREATED:20260419T062116Z
DTSTAMP:20260421T105726Z
LAST-MODIFIED:20260421T060643Z
SUMMARY:Ultra-Trail Mogan by UTMB
DESCRIPTION:Find more events at https://mymindisracing.com
DTSTART:20260412T000000Z
LOCATION:Deqing\, ZJ\, CN
GEO:30.5625691;120.0500594
X-APPLE-STRUCTURED-LOCATION;VALUE=URI:geo:30.562569,120.050059
X-TITLE:Ultra-Trail Mogan by UTMB
URL:https://itra.run/Races/RaceDetails/Ultra.Trail.Mogan.by.UTMB.EMG.20K/20
 26/112422
END:VEVENT
END:VCALENDAR
