BEGIN:VCALENDAR
VERSION:2.0
PRODID:-//arran4//Golang ICS Library
METHOD:PUBLISH
NAME:9th Annual Superhero 5k & Kids Dash
X-WR-CALNAME:9th Annual Superhero 5k & Kids Dash
DESCRIPTION:Calendar for 9th Annual Superhero 5k & Kids Dash
TIMEZONE-ID:America/Phoenix
BEGIN:VEVENT
UID:01f363c3-23ce-432e-aed0-4243139b01f2
CREATED:20260421T060006Z
DTSTAMP:20260422T102256Z
LAST-MODIFIED:20260422T060007Z
SUMMARY:9th Annual Superhero 5k & Kids Dash
DESCRIPTION:Find more events at https://mymindisracing.com
DTSTART;TZID=America/Phoenix:20260425T000700
DTEND;TZID=America/Phoenix:20260425T000900
LOCATION:3550 Prospector St.\, Kingman\, AZ\, 86401\, US
GEO:35.226251;-113.976133
X-APPLE-STRUCTURED-LOCATION;VALUE=URI:geo:35.226251,-113.976133
X-TITLE:White Cliffs Middle School
URL:http://www.active.com/kingman-az/running/distance-running-races/9th-ann
 ual-superhero-5k-and-kids-dash-2026
END:VEVENT
END:VCALENDAR
