BEGIN:VCALENDAR
VERSION:2.0
PRODID:-//arran4//Golang ICS Library
METHOD:PUBLISH
NAME:Picture Me In A Tree 5 km\, 10 km & 6 Hour Trail Run or Walk
X-WR-CALNAME:Picture Me In A Tree 5 km\, 10 km & 6 Hour Trail Run or Walk
DESCRIPTION:Calendar for Picture Me In A Tree 5 km\, 10 km & 6 Hour Trail
  Run or Walk
TIMEZONE-ID:America/Halifax
BEGIN:VEVENT
UID:01bda5a1-d09f-49e3-bf90-4098f4c429b3
CREATED:20260420T064059Z
DTSTAMP:20260421T105823Z
LAST-MODIFIED:20260421T060824Z
SUMMARY:Picture Me In A Tree 5 km\, 10 km & 6 Hour Trail Run or Walk
DESCRIPTION:Find more events at https://mymindisracing.com
DTSTART;TZID=America/Halifax:20260912T090000
LOCATION:Sherman Belcher Road\, Municipality Of The County Of Kings\, NS\,
  B0P 1J0\, CA
GEO:45.1291742;-64.5187079
X-APPLE-STRUCTURED-LOCATION;VALUE=URI:geo:45.129174,-64.518708
X-TITLE:Picture Me In A Tree 5 km\, 10 km & 6 Hour Trail Run or Walk
URL:https://www.facebook.com/login/?next=https%3A%2F%2Fwww.facebook.com%2Fg
 roups%2F1652247202252695
END:VEVENT
END:VCALENDAR
