BEGIN:VCALENDAR
VERSION:2.0
PRODID:-//arran4//Golang ICS Library
METHOD:PUBLISH
NAME:Chelsea Chase 5K
X-WR-CALNAME:Chelsea Chase 5K
DESCRIPTION:Calendar for Chelsea Chase 5K
TIMEZONE-ID:America/New_York
BEGIN:VEVENT
UID:0074f7ae-8c0c-4f77-a107-af8c8ab5b0ac
CREATED:20260420T064758Z
DTSTAMP:20260421T104004Z
LAST-MODIFIED:20260421T063229Z
SUMMARY:Chelsea Chase 5K
DESCRIPTION:Find more events at https://mymindisracing.com
DTSTART;TZID=America/New_York:20260516T100000
LOCATION:170 Everett Avenue\, Chelsea\, MA\, 02150\, US
GEO:42.3948667;-71.043255
X-APPLE-STRUCTURED-LOCATION;VALUE=URI:geo:42.394867,-71.043255
X-TITLE:Chelsea Chase 5K
URL:https://raceroster.com/events/2026/117923/chelsea-chase-5k
END:VEVENT
END:VCALENDAR
